Package: INPower Version: 1.38.0 Command: /home/biocbuild/R/R-4.3.1/bin/R CMD build --keep-empty-dirs --no-resave-data INPower StartedAt: 2023-11-02 02:22:32 -0000 (Thu, 02 Nov 2023) EndedAt: 2023-11-02 02:22:38 -0000 (Thu, 02 Nov 2023) EllapsedTime: 6.0 seconds RetCode: 0 Status: OK PackageFile: INPower_1.38.0.tar.gz PackageFileSize: 142.4 KiB