Package: IMAS Version: 1.26.0 Command: chmod a+r IMAS -R && F:\biocbuild\bbs-3.18-bioc\R\bin\R.exe CMD build --keep-empty-dirs --no-resave-data IMAS StartedAt: 2024-04-15 19:06:26 -0400 (Mon, 15 Apr 2024) EndedAt: 2024-04-15 19:08:42 -0400 (Mon, 15 Apr 2024) EllapsedTime: 136.9 seconds RetCode: 0 Status: OK PackageFile: IMAS_1.26.0.tar.gz PackageFileSize: 601.2 KiB