Package: IMAS Version: 1.26.0 Command: rm -rf IMAS.buildbin-libdir && mkdir IMAS.buildbin-libdir && F:\biocbuild\bbs-3.18-bioc\R\bin\R.exe CMD INSTALL --build --library=IMAS.buildbin-libdir IMAS_1.26.0.tar.gz StartedAt: 2024-04-16 07:09:47 -0400 (Tue, 16 Apr 2024) EndedAt: 2024-04-16 07:10:39 -0400 (Tue, 16 Apr 2024) EllapsedTime: 51.8 seconds RetCode: 0 Status: OK PackageFile: IMAS_1.26.0.zip PackageFileSize: 777.6 KiB