Package: IMAS Version: 1.26.0 Command: rm -rf IMAS.buildbin-libdir && mkdir IMAS.buildbin-libdir && /Users/biocbuild/BBS/utils/build-universal.sh IMAS_1.26.0.tar.gz /Library/Frameworks/R.framework/Resources/bin/R IMAS.buildbin-libdir StartedAt: 2024-04-16 11:59:56 -0400 (Tue, 16 Apr 2024) EndedAt: 2024-04-16 12:02:00 -0400 (Tue, 16 Apr 2024) EllapsedTime: 123.8 seconds RetCode: 0 Status: OK PackageFile: IMAS_1.26.0.tgz PackageFileSize: 754.5 KiB