Package: ILoReg Version: 1.12.1 Command: /home/biocbuild/bbs-3.18-bioc/R/bin/R CMD check --install=check:ILoReg.install-out.txt --library=/home/biocbuild/bbs-3.18-bioc/R/site-library --timings ILoReg_1.12.1.tar.gz StartedAt: 2024-04-15 23:55:49 -0400 (Mon, 15 Apr 2024) EndedAt: 2024-04-16 00:05:39 -0400 (Tue, 16 Apr 2024) EllapsedTime: 590.0 seconds RetCode: 0 Status: WARNINGS CheckDir: ILoReg.Rcheck Warnings: 1