Package: ILoReg Version: 1.12.1 Command: /home/biocbuild/bbs-3.18-bioc/R/bin/R CMD build --keep-empty-dirs --no-resave-data ILoReg StartedAt: 2024-04-15 17:34:42 -0400 (Mon, 15 Apr 2024) EndedAt: 2024-04-15 17:37:04 -0400 (Mon, 15 Apr 2024) EllapsedTime: 142.0 seconds RetCode: 0 Status: OK PackageFile: ILoReg_1.12.1.tar.gz PackageFileSize: 2.531 MiB