Package: ILoReg Version: 1.12.1 Command: /Library/Frameworks/R.framework/Resources/bin/R CMD check --install=check:ILoReg.install-out.txt --library=/Library/Frameworks/R.framework/Resources/library --no-vignettes --timings ILoReg_1.12.1.tar.gz StartedAt: 2024-03-03 21:15:09 -0500 (Sun, 03 Mar 2024) EndedAt: 2024-03-03 21:22:21 -0500 (Sun, 03 Mar 2024) EllapsedTime: 432.2 seconds RetCode: 0 Status: WARNINGS CheckDir: ILoReg.Rcheck Warnings: 1