Package: IHW Version: 1.30.0 Command: rm -rf IHW.buildbin-libdir && mkdir IHW.buildbin-libdir && /Users/biocbuild/BBS/utils/build-universal.sh IHW_1.30.0.tar.gz /Library/Frameworks/R.framework/Resources/bin/R IHW.buildbin-libdir StartedAt: 2024-04-16 11:59:48 -0400 (Tue, 16 Apr 2024) EndedAt: 2024-04-16 12:00:01 -0400 (Tue, 16 Apr 2024) EllapsedTime: 13.7 seconds RetCode: 0 Status: OK PackageFile: IHW_1.30.0.tgz PackageFileSize: 4.887 MiB