Package: HybridMTest Version: 1.46.0 Command: rm -rf HybridMTest.buildbin-libdir && mkdir HybridMTest.buildbin-libdir && /Users/biocbuild/BBS/utils/build-universal.sh HybridMTest_1.46.0.tar.gz /Library/Frameworks/R.framework/Resources/bin/R HybridMTest.buildbin-libdir StartedAt: 2024-03-04 00:45:57 -0500 (Mon, 04 Mar 2024) EndedAt: 2024-03-04 00:46:09 -0500 (Mon, 04 Mar 2024) EllapsedTime: 12.7 seconds RetCode: 0 Status: OK PackageFile: HybridMTest_1.46.0.tgz PackageFileSize: 235 KiB