Package: HumanTranscriptomeCompendium Version: 1.18.1 Command: /Library/Frameworks/R.framework/Resources/bin/R CMD build --keep-empty-dirs --no-resave-data HumanTranscriptomeCompendium StartedAt: 2024-04-15 19:23:53 -0400 (Mon, 15 Apr 2024) EndedAt: 2024-04-15 19:25:25 -0400 (Mon, 15 Apr 2024) EllapsedTime: 91.6 seconds RetCode: 1 Status: ERROR PackageFile: None PackageFileSize: NA