Package: HumanTranscriptomeCompendium Version: 1.18.1 Command: rm -rf HumanTranscriptomeCompendium.buildbin-libdir && mkdir HumanTranscriptomeCompendium.buildbin-libdir && /Users/biocbuild/BBS/utils/build-universal.sh HumanTranscriptomeCompendium_1.18.1.tar.gz /Library/Frameworks/R.framework/Resources/bin/R HumanTranscriptomeCompendium.buildbin-libdir StartedAt: 2024-04-11 11:42:44 -0400 (Thu, 11 Apr 2024) EndedAt: 2024-04-11 11:43:33 -0400 (Thu, 11 Apr 2024) EllapsedTime: 48.6 seconds RetCode: 0 Status: OK PackageFile: HumanTranscriptomeCompendium_1.18.1.tgz PackageFileSize: 2.104 MiB