Package: HubPub Version: 1.10.1 Command: F:\biocbuild\bbs-3.18-bioc\R\bin\R.exe CMD check --no-multiarch --install=check:HubPub.install-out.txt --library=F:\biocbuild\bbs-3.18-bioc\R\library --no-vignettes --timings HubPub_1.10.1.tar.gz StartedAt: 2024-04-16 01:43:46 -0400 (Tue, 16 Apr 2024) EndedAt: 2024-04-16 01:45:35 -0400 (Tue, 16 Apr 2024) EllapsedTime: 109.2 seconds RetCode: 0 Status: OK CheckDir: HubPub.Rcheck Warnings: 0