Package: HubPub Version: 1.10.1 Command: /home/biocbuild/bbs-3.18-bioc/R/bin/R CMD INSTALL HubPub StartedAt: 2024-04-15 15:23:24 -0400 (Mon, 15 Apr 2024) EndedAt: 2024-04-15 15:23:29 -0400 (Mon, 15 Apr 2024) EllapsedTime: 4.4 seconds RetCode: 0 Status: OK