Package: HubPub Version: 1.10.1 Command: /Library/Frameworks/R.framework/Resources/bin/R CMD INSTALL HubPub StartedAt: 2024-04-15 15:40:28 -0400 (Mon, 15 Apr 2024) EndedAt: 2024-04-15 15:40:46 -0400 (Mon, 15 Apr 2024) EllapsedTime: 17.8 seconds RetCode: 0 Status: OK