Package: HubPub Version: 1.10.1 Command: /Library/Frameworks/R.framework/Resources/bin/R CMD check --install=check:HubPub.install-out.txt --library=/Library/Frameworks/R.framework/Resources/library --no-vignettes --timings HubPub_1.10.1.tar.gz StartedAt: 2024-04-16 04:04:18 -0400 (Tue, 16 Apr 2024) EndedAt: 2024-04-16 04:07:18 -0400 (Tue, 16 Apr 2024) EllapsedTime: 179.4 seconds RetCode: 0 Status: OK CheckDir: HubPub.Rcheck Warnings: 0