Package: HubPub Version: 1.10.0 Command: /home/biocbuild/R/R-4.3.1/bin/R CMD build --keep-empty-dirs --no-resave-data HubPub StartedAt: 2023-11-02 02:12:50 -0000 (Thu, 02 Nov 2023) EndedAt: 2023-11-02 02:13:34 -0000 (Thu, 02 Nov 2023) EllapsedTime: 44.1 seconds RetCode: 0 Status: OK PackageFile: HubPub_1.10.0.tar.gz PackageFileSize: 1.386 MiB