Package: HilbertVisGUI Version: 1.60.0 Command: /home/biocbuild/bbs-3.18-bioc/R/bin/R CMD build --keep-empty-dirs --no-resave-data HilbertVisGUI StartedAt: 2024-04-15 17:30:47 -0400 (Mon, 15 Apr 2024) EndedAt: 2024-04-15 17:31:08 -0400 (Mon, 15 Apr 2024) EllapsedTime: 20.6 seconds RetCode: 0 Status: OK PackageFile: HilbertVisGUI_1.60.0.tar.gz PackageFileSize: 72 KiB