Package: HilbertCurve Version: 1.32.0 Command: /Library/Frameworks/R.framework/Resources/bin/R CMD INSTALL HilbertCurve StartedAt: 2024-04-15 15:11:46 -0400 (Mon, 15 Apr 2024) EndedAt: 2024-04-15 15:12:13 -0400 (Mon, 15 Apr 2024) EllapsedTime: 26.6 seconds RetCode: 0 Status: OK