Package: HilbertCurve Version: 1.32.0 Command: /Library/Frameworks/R.framework/Resources/bin/R CMD build --keep-empty-dirs --no-resave-data HilbertCurve StartedAt: 2024-03-03 17:02:35 -0500 (Sun, 03 Mar 2024) EndedAt: 2024-03-03 17:04:43 -0500 (Sun, 03 Mar 2024) EllapsedTime: 128.5 seconds RetCode: 0 Status: OK PackageFile: HilbertCurve_1.32.0.tar.gz PackageFileSize: 9.83 MiB