Package: HiTC Version: 1.46.0 Command: /Library/Frameworks/R.framework/Resources/bin/R CMD INSTALL HiTC StartedAt: 2024-03-03 15:16:40 -0500 (Sun, 03 Mar 2024) EndedAt: 2024-03-03 15:17:35 -0500 (Sun, 03 Mar 2024) EllapsedTime: 54.7 seconds RetCode: 0 Status: OK