Package: HiTC Version: 1.46.0 Command: /Library/Frameworks/R.framework/Resources/bin/R CMD build --keep-empty-dirs --no-resave-data HiTC StartedAt: 2024-03-03 17:03:14 -0500 (Sun, 03 Mar 2024) EndedAt: 2024-03-03 17:05:41 -0500 (Sun, 03 Mar 2024) EllapsedTime: 146.8 seconds RetCode: 0 Status: OK PackageFile: HiTC_1.46.0.tar.gz PackageFileSize: 3.128 MiB