Package: HiContacts Version: 1.4.0 Command: chmod a+r HiContacts -R && F:\biocbuild\bbs-3.18-bioc\R\bin\R.exe CMD build --keep-empty-dirs --no-resave-data HiContacts StartedAt: 2024-04-15 19:02:00 -0400 (Mon, 15 Apr 2024) EndedAt: 2024-04-15 19:09:47 -0400 (Mon, 15 Apr 2024) EllapsedTime: 467.1 seconds RetCode: 0 Status: OK PackageFile: HiContacts_1.4.0.tar.gz PackageFileSize: 3.992 MiB