Package: HiCcompare Version: 1.24.0 Command: chmod a+r HiCcompare -R && F:\biocbuild\bbs-3.18-bioc\R\bin\R.exe CMD build --keep-empty-dirs --no-resave-data HiCcompare StartedAt: 2024-04-15 19:01:14 -0400 (Mon, 15 Apr 2024) EndedAt: 2024-04-15 19:02:16 -0400 (Mon, 15 Apr 2024) EllapsedTime: 62.1 seconds RetCode: 0 Status: OK PackageFile: HiCcompare_1.24.0.tar.gz PackageFileSize: 3.324 MiB