Package: HiCcompare Version: 1.24.0 Command: /home/biocbuild/bbs-3.18-bioc/R/bin/R CMD build --keep-empty-dirs --no-resave-data HiCcompare StartedAt: 2024-04-15 17:29:56 -0400 (Mon, 15 Apr 2024) EndedAt: 2024-04-15 17:30:47 -0400 (Mon, 15 Apr 2024) EllapsedTime: 51.7 seconds RetCode: 0 Status: OK PackageFile: HiCcompare_1.24.0.tar.gz PackageFileSize: 3.531 MiB