Package: HiCcompare Version: 1.24.0 Command: /Library/Frameworks/R.framework/Resources/bin/R CMD INSTALL HiCcompare StartedAt: 2024-04-15 15:24:58 -0400 (Mon, 15 Apr 2024) EndedAt: 2024-04-15 15:26:10 -0400 (Mon, 15 Apr 2024) EllapsedTime: 71.9 seconds RetCode: 0 Status: OK