Package: HiCcompare Version: 1.24.0 Command: /Library/Frameworks/R.framework/Resources/bin/R CMD check --install=check:HiCcompare.install-out.txt --library=/Library/Frameworks/R.framework/Resources/library --no-vignettes --timings HiCcompare_1.24.0.tar.gz StartedAt: 2024-03-03 21:07:25 -0500 (Sun, 03 Mar 2024) EndedAt: 2024-03-03 21:11:29 -0500 (Sun, 03 Mar 2024) EllapsedTime: 244.0 seconds RetCode: 0 Status: OK CheckDir: HiCcompare.Rcheck Warnings: 0