Package: HiCcompare Version: 1.24.0 Command: /home/biocbuild/R/R-4.3.1/bin/R CMD INSTALL HiCcompare StartedAt: 2023-11-01 20:17:46 -0000 (Wed, 01 Nov 2023) EndedAt: 2023-11-01 20:18:33 -0000 (Wed, 01 Nov 2023) EllapsedTime: 47.3 seconds RetCode: 0 Status: OK