Package: HiCDOC Version: 1.4.1 Command: rm -rf HiCDOC.buildbin-libdir && mkdir HiCDOC.buildbin-libdir && F:\biocbuild\bbs-3.18-bioc\R\bin\R.exe CMD INSTALL --build --library=HiCDOC.buildbin-libdir HiCDOC_1.4.1.tar.gz StartedAt: 2024-04-16 07:08:18 -0400 (Tue, 16 Apr 2024) EndedAt: 2024-04-16 07:09:34 -0400 (Tue, 16 Apr 2024) EllapsedTime: 76.5 seconds RetCode: 0 Status: OK PackageFile: HiCDOC_1.4.1.zip PackageFileSize: 3.267 MiB