Package: HiCDOC Version: 1.4.1 Command: rm -rf HiCDOC.buildbin-libdir && mkdir HiCDOC.buildbin-libdir && /Users/biocbuild/BBS/utils/build-universal.sh HiCDOC_1.4.1.tar.gz /Library/Frameworks/R.framework/Resources/bin/R HiCDOC.buildbin-libdir StartedAt: 2024-03-04 00:45:25 -0500 (Mon, 04 Mar 2024) EndedAt: 2024-03-04 00:46:30 -0500 (Mon, 04 Mar 2024) EllapsedTime: 64.8 seconds RetCode: 0 Status: OK PackageFile: HiCDOC_1.4.1.tgz PackageFileSize: 3.361 MiB