Package: HiCBricks Version: 1.20.0 Command: rm -rf HiCBricks.buildbin-libdir && mkdir HiCBricks.buildbin-libdir && F:\biocbuild\bbs-3.18-bioc\R\bin\R.exe CMD INSTALL --build --library=HiCBricks.buildbin-libdir HiCBricks_1.20.0.tar.gz StartedAt: 2024-04-16 07:08:13 -0400 (Tue, 16 Apr 2024) EndedAt: 2024-04-16 07:08:43 -0400 (Tue, 16 Apr 2024) EllapsedTime: 30.3 seconds RetCode: 0 Status: OK PackageFile: HiCBricks_1.20.0.zip PackageFileSize: 4.891 MiB