Package: HiCBricks Version: 1.20.0 Command: rm -rf HiCBricks.buildbin-libdir && mkdir HiCBricks.buildbin-libdir && /Users/biocbuild/BBS/utils/build-universal.sh HiCBricks_1.20.0.tar.gz /Library/Frameworks/R.framework/Resources/bin/R HiCBricks.buildbin-libdir StartedAt: 2024-04-16 11:56:29 -0400 (Tue, 16 Apr 2024) EndedAt: 2024-04-16 11:57:55 -0400 (Tue, 16 Apr 2024) EllapsedTime: 86.3 seconds RetCode: 0 Status: OK PackageFile: HiCBricks_1.20.0.tgz PackageFileSize: 9.084 MiB