Package: HelloRanges Version: 1.28.0 Command: rm -rf HelloRanges.buildbin-libdir && mkdir HelloRanges.buildbin-libdir && F:\biocbuild\bbs-3.18-bioc\R\bin\R.exe CMD INSTALL --build --library=HelloRanges.buildbin-libdir HelloRanges_1.28.0.tar.gz StartedAt: 2024-04-16 07:07:54 -0400 (Tue, 16 Apr 2024) EndedAt: 2024-04-16 07:08:54 -0400 (Tue, 16 Apr 2024) EllapsedTime: 60.5 seconds RetCode: 0 Status: OK PackageFile: HelloRanges_1.28.0.zip PackageFileSize: 969 KiB