Package: HelloRanges Version: 1.28.0 Command: /home/biocbuild/bbs-3.18-bioc/R/bin/R CMD build --keep-empty-dirs --no-resave-data HelloRanges StartedAt: 2024-04-15 17:29:01 -0400 (Mon, 15 Apr 2024) EndedAt: 2024-04-15 17:32:35 -0400 (Mon, 15 Apr 2024) EllapsedTime: 214.8 seconds RetCode: 0 Status: OK PackageFile: HelloRanges_1.28.0.tar.gz PackageFileSize: 951.4 KiB