Package: HelloRanges Version: 1.28.0 Command: /Library/Frameworks/R.framework/Resources/bin/R CMD INSTALL HelloRanges StartedAt: 2024-04-15 15:49:41 -0400 (Mon, 15 Apr 2024) EndedAt: 2024-04-15 15:51:16 -0400 (Mon, 15 Apr 2024) EllapsedTime: 94.7 seconds RetCode: 0 Status: OK