Package: HelloRanges Version: 1.28.0 Command: /Library/Frameworks/R.framework/Resources/bin/R CMD check --install=check:HelloRanges.install-out.txt --library=/Library/Frameworks/R.framework/Resources/library --no-vignettes --timings HelloRanges_1.28.0.tar.gz StartedAt: 2024-02-05 20:42:26 -0500 (Mon, 05 Feb 2024) EndedAt: 2024-02-05 20:48:24 -0500 (Mon, 05 Feb 2024) EllapsedTime: 358.8 seconds RetCode: 0 Status: OK CheckDir: HelloRanges.Rcheck Warnings: 0