Package: HelloRanges Version: 1.28.0 Command: /home/biocbuild/R/R-4.3.1/bin/R CMD INSTALL HelloRanges StartedAt: 2023-11-01 20:29:51 -0000 (Wed, 01 Nov 2023) EndedAt: 2023-11-01 20:30:54 -0000 (Wed, 01 Nov 2023) EllapsedTime: 62.9 seconds RetCode: 0 Status: OK