Package: Heatplus Version: 3.10.0 Command: rm -rf Heatplus.buildbin-libdir && mkdir Heatplus.buildbin-libdir && /Users/biocbuild/BBS/utils/build-universal.sh Heatplus_3.10.0.tar.gz /Library/Frameworks/R.framework/Resources/bin/R Heatplus.buildbin-libdir StartedAt: 2024-03-04 00:45:11 -0500 (Mon, 04 Mar 2024) EndedAt: 2024-03-04 00:45:18 -0500 (Mon, 04 Mar 2024) EllapsedTime: 6.8 seconds RetCode: 0 Status: OK PackageFile: Heatplus_3.10.0.tgz PackageFileSize: 1.264 MiB