Package: Heatplus Version: 3.10.0 Command: /home/biocbuild/R/R-4.3.1/bin/R CMD INSTALL Heatplus StartedAt: 2023-11-01 20:04:37 -0000 (Wed, 01 Nov 2023) EndedAt: 2023-11-01 20:04:58 -0000 (Wed, 01 Nov 2023) EllapsedTime: 20.9 seconds RetCode: 0 Status: OK