Package: HarmonizR Version: 1.0.0 Command: /Library/Frameworks/R.framework/Resources/bin/R CMD INSTALL HarmonizR StartedAt: 2024-03-03 15:38:03 -0500 (Sun, 03 Mar 2024) EndedAt: 2024-03-03 15:38:07 -0500 (Sun, 03 Mar 2024) EllapsedTime: 4.1 seconds RetCode: 0 Status: OK