Package: Harman Version: 1.30.0 Command: /Library/Frameworks/R.framework/Resources/bin/R CMD INSTALL Harman StartedAt: 2024-03-03 15:06:58 -0500 (Sun, 03 Mar 2024) EndedAt: 2024-03-03 15:07:25 -0500 (Sun, 03 Mar 2024) EllapsedTime: 27.0 seconds RetCode: 0 Status: OK