Package: HTqPCR Version: 1.56.0 Command: /Library/Frameworks/R.framework/Resources/bin/R CMD build --keep-empty-dirs --no-resave-data HTqPCR StartedAt: 2024-03-03 17:03:52 -0500 (Sun, 03 Mar 2024) EndedAt: 2024-03-03 17:04:22 -0500 (Sun, 03 Mar 2024) EllapsedTime: 30.5 seconds RetCode: 0 Status: OK PackageFile: HTqPCR_1.56.0.tar.gz PackageFileSize: 2.581 MiB