Package: HTqPCR Version: 1.56.0 Maintainer: Heidi Dvinge MaintainerEmail: hdvinge at fredhutch.org git_url: https://git.bioconductor.org/packages/HTqPCR git_branch: RELEASE_3_18 git_last_commit: cba77c7 git_last_commit_date: 2023-10-24 09:42:53 -0400 (Tue, 24 Oct 2023)