Package: HPiP Version: 1.8.0 Command: /home/biocbuild/bbs-3.18-bioc/R/bin/R CMD build --keep-empty-dirs --no-resave-data HPiP StartedAt: 2024-04-15 17:32:17 -0400 (Mon, 15 Apr 2024) EndedAt: 2024-04-15 17:41:32 -0400 (Mon, 15 Apr 2024) EllapsedTime: 554.7 seconds RetCode: 0 Status: OK PackageFile: HPiP_1.8.0.tar.gz PackageFileSize: 4.07 MiB