Package: HPiP Version: 1.8.0 Command: /Library/Frameworks/R.framework/Resources/bin/R CMD INSTALL HPiP StartedAt: 2024-04-15 16:20:28 -0400 (Mon, 15 Apr 2024) EndedAt: 2024-04-15 16:20:55 -0400 (Mon, 15 Apr 2024) EllapsedTime: 27.0 seconds RetCode: 0 Status: OK