Package: HPiP Version: 1.8.0 Command: /Library/Frameworks/R.framework/Resources/bin/R CMD build --keep-empty-dirs --no-resave-data HPiP StartedAt: 2024-04-15 19:23:20 -0400 (Mon, 15 Apr 2024) EndedAt: 2024-04-15 19:39:54 -0400 (Mon, 15 Apr 2024) EllapsedTime: 994.3 seconds RetCode: 0 Status: OK PackageFile: HPiP_1.8.0.tar.gz PackageFileSize: 4.566 MiB