Package: HPiP Version: 1.8.0 Command: /Library/Frameworks/R.framework/Resources/bin/R CMD build --keep-empty-dirs --no-resave-data HPiP StartedAt: 2024-03-03 17:03:46 -0500 (Sun, 03 Mar 2024) EndedAt: 2024-03-03 17:14:31 -0500 (Sun, 03 Mar 2024) EllapsedTime: 645.4 seconds RetCode: 0 Status: OK PackageFile: HPiP_1.8.0.tar.gz PackageFileSize: 4.316 MiB