Package: HPAanalyze Version: 1.20.0 Command: /home/biocbuild/R/R-4.3.1/bin/R CMD check --install=check:HPAanalyze.install-out.txt --library=/home/biocbuild/R/R-4.3.1/site-library --no-vignettes --timings HPAanalyze_1.20.0.tar.gz StartedAt: 2023-11-02 11:20:55 -0000 (Thu, 02 Nov 2023) EndedAt: 2023-11-02 11:22:36 -0000 (Thu, 02 Nov 2023) EllapsedTime: 101.4 seconds RetCode: 0 Status: OK CheckDir: HPAanalyze.Rcheck Warnings: 0