Package: HPAanalyze Version: 1.20.0 Command: /home/biocbuild/R/R-4.3.1/bin/R CMD build --keep-empty-dirs --no-resave-data HPAanalyze StartedAt: 2023-11-02 02:09:57 -0000 (Thu, 02 Nov 2023) EndedAt: 2023-11-02 02:10:49 -0000 (Thu, 02 Nov 2023) EllapsedTime: 52.1 seconds RetCode: 0 Status: OK PackageFile: HPAanalyze_1.20.0.tar.gz PackageFileSize: 7.223 MiB