Package: HPAStainR Version: 1.12.0 Command: chmod a+r HPAStainR -R && F:\biocbuild\bbs-3.18-bioc\R\bin\R.exe CMD build --keep-empty-dirs --no-resave-data HPAStainR StartedAt: 2024-04-15 19:03:43 -0400 (Mon, 15 Apr 2024) EndedAt: 2024-04-15 19:04:04 -0400 (Mon, 15 Apr 2024) EllapsedTime: 21.6 seconds RetCode: 1 Status: ERROR PackageFile: None PackageFileSize: NA