Package: HPAStainR Version: 1.12.0 Command: /home/biocbuild/R/R-4.3.1/bin/R CMD build --keep-empty-dirs --no-resave-data HPAStainR StartedAt: 2023-11-02 02:10:49 -0000 (Thu, 02 Nov 2023) EndedAt: 2023-11-02 02:50:49 -0000 (Thu, 02 Nov 2023) EllapsedTime: 2400.5 seconds RetCode: None Status: TIMEOUT PackageFile: None PackageFileSize: NA